BEGIN:VCALENDAR
VERSION:2.0
PRODID:-//Plone.org//NONSGML plone.app.event//EN
X-WR-TIMEZONE:Europe/Berlin
BEGIN:VEVENT
SUMMARY:Das Sommerfest der Informatik
DTSTART;TZID=Europe/Berlin:20250627T100000
DTSTAMP:20260422T102000Z
UID:715af84a17024e8f9c7a948bbcf4c0d9@www.informatik.uni-bonn.de
CATEGORIES:Veranstaltung
CREATED:20241203T102037Z
DESCRIPTION:Alle Studierende\, Mitarbeiter*innen und Professor*innen sind 
 eingeladen.\n\nProgramm\n10 bis 12 Uhr: Postersession im Foyer\n14 bis 16 
 Uhr: Preisverleihung Grace Hopper\, BIG\, Kepler-Stipendium\, Best Poster 
 Award in 0.107 \nab 16 Uhr: Grillen\, Beisammensein\, Karaoke\, etc.
LAST-MODIFIED:20260114T103817Z
URL:https://www.informatik.uni-bonn.de/de/aktuelles/vf/2025-1/sommerfest
END:VEVENT
BEGIN:VTIMEZONE
TZID:Europe/Berlin
X-LIC-LOCATION:Europe/Berlin
BEGIN:DAYLIGHT
DTSTART:20250330T030000
TZNAME:CEST
TZOFFSETFROM:+0100
TZOFFSETTO:+0200
END:DAYLIGHT
END:VTIMEZONE
END:VCALENDAR
