BEGIN:VCALENDAR
VERSION:2.0
PRODID:-//Plone.org//NONSGML plone.app.event//EN
X-WR-TIMEZONE:Europe/Berlin
BEGIN:VEVENT
SUMMARY:Ausstellung im P26: Quantum to Go
DTSTART;VALUE=DATE:20250912
DTEND;VALUE=DATE:20251101
DTSTAMP:20260421T163831Z
UID:f48b68d99ca54181b3788f0668d7192d@www.informatik.uni-bonn.de
CATEGORIES:Veranstaltung
CREATED:20241203T102037Z
DESCRIPTION:Quantenphysik – für viele ein Rätsel aus Katzen\, merkwür
 digen Teilchen und Formeln\, bei denen einem schwindlig wird. Und doch pr
 ägt sie längst unseren Alltag: im Smartphone\, im Laserpointer\, in der 
 modernen Medizin. Möglich wurde all das durch über 100 Jahre unermüdlic
 her Grundlagenforschung. \nVom 12. September bis 31. Oktober ist Quantum t
 o Go im P26 zu erleben – dem offenen Haus der Universität Bonn für Beg
 egnung und Austausch zwischen Wissenschaft und Öffentlichkeit. Zentral ge
 legen\, bietet es den idealen Rahmen\, um Spitzenforschung sichtbar zu mac
 hen und Besucher mit Wissenschaftlern ins Gespräch zu bringen.\nDie Ausst
 ellung nimmt das Internationale Jahr der Quantenwissenschaften zum Anlass\
 , zu zeigen\, wie hier im Rheinland an einer der faszinierendsten Technolo
 gien unserer Zeit gearbeitet wird: dem Quantencomputer. Er ist kein schnel
 lerer PC\, sondern ein völlig anderer – einer\, der die Regeln der Quan
 tenwelt nutzt\, um Probleme zu lösen\, an denen selbst Supercomputer sche
 itern.
LAST-MODIFIED:20260114T103746Z
URL:https://www.informatik.uni-bonn.de/de/aktuelles/vf/2025-1/p26-quantum-
 2025
END:VEVENT
END:VCALENDAR
